BEGIN:VCALENDAR
VERSION:2.0
PRODID:
BEGIN:VEVENT
UID:238903ks
DTSTAMP:20260420T143008Z
DTSTART:20260512T120000Z
DTEND:20260512T214000Z
SUMMARY: Iowa Governmental Roundtable
DESCRIPTION:  \n  \nThis dynamic virtual conference is designed specifically for CPAs and accounting professionals working in or with government entities. Gain timely insights and analysis on the continually evolving rules and regulations impacting governmental agencies and those who work alongside them\n \nThank you to the ISCPA Governmental Auditing and Accounting Committee! We appreciate your time and commitment to developing a top-notch program for your peers. <a href="https://www.iacpa.org/committees/000005:governmental-auditing-accounting">View the committee members.</a>\n  
CLASS:PUBLIC
END:VEVENT
END:VCALENDAR
