BEGIN:VCALENDAR
VERSION:2.0
PRODID:
BEGIN:VEVENT
UID:246929klh
DTSTAMP:20260421T143433Z
DTSTART:20260519T170000Z
DTEND:20260519T203000Z
SUMMARY: Ethics and Professional Conduct: Updates and Practical Application
DESCRIPTION: Adherence to the AICPA Code of Professional Conduct is mandatory for AICPA members. Further\, the code is the *de facto* standard for the accounting profession and is recognized by various courts and regulatory bodies. Therefore\, maintaining current knowledge of the rules and how to apply them correctly is imperative. This course offers a timely refresher on the AICPA Code of Professional Conduct\, covering essential topics such as the conceptual framework\, independence provisions for nonattest services\, personal independence\, and other critical issues. xplore the basic tenets of ethical and professional conduct and gain insight into the code’s necessity and organizational structure. Also examine recent changes to the code\, including new and revised professional ethics interpretations and definitions that have been issued.
CLASS:PUBLIC
END:VEVENT
END:VCALENDAR
