BEGIN:VCALENDAR
VERSION:2.0
PRODID:
BEGIN:VEVENT
UID:246250imp
DTSTAMP:20260419T194850Z
DTSTART:20270126T203000Z
DTEND:20270126T223000Z
SUMMARY: Profiles in Fraud
DESCRIPTION: Nobody is immune to fraud risk. This course opens with stories of real fraud perpetrators then examines the similarities between the fraud perpetrators\, discovering that they all have many common traits.  It finishes with techniques accountants can use to deter these behaviors.

This event may be a rebroadcast of a live event and the instructor will be available to answer your questions during the event.
CLASS:PUBLIC
END:VEVENT
END:VCALENDAR
