BEGIN:VCALENDAR
VERSION:2.0
PRODID:
BEGIN:VEVENT
UID:246178imp
DTSTAMP:20260420T214754Z
DTSTART:20261229T203000Z
DTEND:20261229T223000Z
SUMMARY: Hot Topics Audit & Attest Update - 2026
DESCRIPTION: Many public accountants desire to have a quick overview of only the most current changes to professional and ethical requirements.  This course will provide an executive summary of the major changes in audit and other attest requirements.

This event may be a rebroadcast of a live event and the instructor will be available to answer your questions during the event.

This event may be a rebroadcast of a live event and the instructor will be available to answer your questions during the event.
CLASS:PUBLIC
END:VEVENT
END:VCALENDAR
