BEGIN:VCALENDAR
VERSION:2.0
PRODID:
BEGIN:VEVENT
UID:244122imp
DTSTAMP:20260420T140127Z
DTSTART:20270105T210000Z
DTEND:20270105T230000Z
SUMMARY: Navigating IRS Collections: The Collection Process
DESCRIPTION: This course is designed for tax professionals seeking to understand and navigate the IRS collection process effectively.  Participants will gain indepth knowledge of the various collection methods employed by the IRS\, including liens\, levies and wage garnishments.  Additionall\, participants will leand strategies to avoid or halt collection actions and the implications of the statute of limitations on tax collection.

This event may be a rebroadcast of a live event and the instructor will be available to answer your questions during the event.
CLASS:PUBLIC
END:VEVENT
END:VCALENDAR
