BEGIN:VCALENDAR
VERSION:2.0
PRODID:
BEGIN:VEVENT
UID:243966imp
DTSTAMP:20260420T130012Z
DTSTART:20270107T183000Z
DTEND:20270107T223000Z
SUMMARY: Managerial Accounting: Your Prescription for Better Decision
DESCRIPTION: This session revisits useful\, but potentially underutilized\, managerial accounting techniques. You will appreciate a fresh look at concepts you may not have considered since your college days. We will illustrate practical ways you can immediately implement managerial accounting analysis in your professional endeavors. 

This event may be a rebroadcast of a live event and the instructor will be available to answer your questions during the event.
CLASS:PUBLIC
END:VEVENT
END:VCALENDAR
