BEGIN:VCALENDAR
VERSION:2.0
PRODID:
BEGIN:VEVENT
UID:243506imp
DTSTAMP:20260420T055414Z
DTSTART:20270114T190000Z
DTEND:20270114T210000Z
SUMMARY: Ethical AI Practices for CPAs: Ensuring Responsible Use
DESCRIPTION: Explore the ethical implications of using generative AI. This course addresses potential risks and dilemmas\, providing guidelines to ensure responsible and compliant integration. Learn how to balance innovation with ethical obligations to maintain trust and integrity.


This event may be a rebroadcast of a live event and the instructor will be available to answer your questions during the event.
CLASS:PUBLIC
END:VEVENT
END:VCALENDAR
