BEGIN:VCALENDAR
VERSION:2.0
PRODID:
BEGIN:VEVENT
UID:242914imp
DTSTAMP:20260420T140851Z
DTSTART:20270105T190000Z
DTEND:20270105T210000Z
SUMMARY: Self-Rental Real Estate: Passive Activity & Section 199A
DESCRIPTION: This program presents a detailed analysis of the self-rental passive activity rules\, including forms reporting examples and integrates them with the flow-through entity rules related to self-rental.

This event may be a rebroadcast of a live event and the instructor will be available to answer your questions during the event.
CLASS:PUBLIC
END:VEVENT
END:VCALENDAR
