BEGIN:VCALENDAR
VERSION:2.0
PRODID:
BEGIN:VEVENT
UID:242907imp
DTSTAMP:20260419T125217Z
DTSTART:20270201T180000Z
DTEND:20270201T190000Z
SUMMARY: Tax Implications of Retirement Plan Distributions
DESCRIPTION: This session will address the complex rules of retirement distributions\, review key provisions of the SECURE Act 2.0\, and provide practical strategies of maximizing tax benefits for your client.

This event may be a rebroadcast of a live event and the instructor will be available to answer your questions during the event.
CLASS:PUBLIC
END:VEVENT
END:VCALENDAR
