BEGIN:VCALENDAR
VERSION:2.0
PRODID:
BEGIN:VEVENT
UID:242887imp
DTSTAMP:20260419T181330Z
DTSTART:20270128T150000Z
DTEND:20270128T170000Z
SUMMARY: Mastering Partnership Basis: Inside and Outside Basis
DESCRIPTION: This course will provide a detailed analysis of how to determine a partner's tax basis for a partnership interest\, with an explanation of the use of both "inside" and "outside" basis determination.  An illustrated example with filled in forms will demonstrate how the process works and the potential pitfalls.



This event may be a rebroadcast of a live event and the instructor will be available to answer your questions during the event.
CLASS:PUBLIC
END:VEVENT
END:VCALENDAR
