BEGIN:VCALENDAR
VERSION:2.0
PRODID:
BEGIN:VEVENT
UID:242636imp
DTSTAMP:20260420T154942Z
DTSTART:20270104T190000Z
DTEND:20270104T210000Z
SUMMARY: Exercise Your Ethics: Techniques to Improve Ethical Response
DESCRIPTION: Many courses highlight ethical failures - this course goes beyond that.  This course identifies the many barriers to ethical behavior\, focuses on habits and techniques that improve ethics and offer ways to practice so that the ethical "muscle" is ready for any dilemma.  This course incorporates ideas from leading ethical authors and  includes data from the ACFE Report to the Nations.

This event may be a rebroadcast of a live event and the instructor will be available to answer your questions during the event.
CLASS:PUBLIC
END:VEVENT
END:VCALENDAR
