BEGIN:VCALENDAR
VERSION:2.0
PRODID:
BEGIN:VEVENT
UID:242593imp
DTSTAMP:20260425T220341Z
DTSTART:20260611T170000Z
DTEND:20260611T190000Z
SUMMARY: Yellow Book Ethics
DESCRIPTION: Government Auditing Standards (or Yellow Book) has a unique perspective on ethics and transparency due to accountability owed to taxpayers\, oversight bodies\, and others.  This course will discuss the foundational principles in the Yellow Book relevant to professional conduct on related engagements.      

This event may be a rebroadcast of a live event and the instructor will be available to answer your questions during the event.
CLASS:PUBLIC
END:VEVENT
END:VCALENDAR
