BEGIN:VCALENDAR
VERSION:2.0
PRODID:
BEGIN:VEVENT
UID:242563imp
DTSTAMP:20260419T181202Z
DTSTART:20270127T193000Z
DTEND:20270127T213000Z
SUMMARY: Professional Ethical Considerations for CPAs
DESCRIPTION: Every CPA must comply with a Code of Professional Conduct\, which is a hallmark of the CPA designation.  CPAs in public practice must overcome higher barriers\, such as when attest service providers must also retain independence.  This course will provide an overview of the core principles from which the CPA profession is built upon.  

This event may be a rebroadcast of a live event and the instructor will be available to answer your questions during the event.
CLASS:PUBLIC
END:VEVENT
END:VCALENDAR
