BEGIN:VCALENDAR
VERSION:2.0
PRODID:
BEGIN:VEVENT
UID:242364imp
DTSTAMP:20260421T002259Z
DTSTART:20261228T180000Z
DTEND:20261228T200000Z
SUMMARY: Accounting for and Auditing Cryptocurrency & Digital Assets
DESCRIPTION: How to properly account for and audit digital records is increasingly gathering importance as more entities have cryptocurrency and other digital assets on their financial statements. This course will address common questions\, risks\, and challenges evolving in this area.

This event may be a rebroadcast of a live event and the instructor will be available to answer your questions during the event.
CLASS:PUBLIC
END:VEVENT
END:VCALENDAR
