BEGIN:VCALENDAR
VERSION:2.0
PRODID:
BEGIN:VEVENT
UID:241600imp
DTSTAMP:20260420T091422Z
DTSTART:20270112T173000Z
DTEND:20270112T193000Z
SUMMARY: Accountants and Malpractice: Can We Get Sued for This?
DESCRIPTION: This seminar reviews situations in which a CPA or accounting professional may be in danger of being sued. We cover common law causes of action\, such as negligence\, and the relevant standards and case law defining what constitutes reasonable practitioner behavior. This course is ideal for lawyers\, CPAs\, EAs\, tax preparers\, accountants and insurance personnel.

This event may be a rebroadcast of a live event and the instructor will be available to answer your questions during the event.
CLASS:PUBLIC
END:VEVENT
END:VCALENDAR
