BEGIN:VCALENDAR
VERSION:2.0
PRODID:
BEGIN:VEVENT
UID:240852imp
DTSTAMP:20260421T083144Z
DTSTART:20270205T170000Z
DTEND:20270205T190000Z
SUMMARY: Tax Depreciation: Review and Update
DESCRIPTION: A discussion of recent law changes that impact capitalization\, depreciation\, and disposition of assets.

This event may be a rebroadcast of a live event and the instructor will be available to answer your questions during the event.
CLASS:PUBLIC
END:VEVENT
END:VCALENDAR
