BEGIN:VCALENDAR
VERSION:2.0
PRODID:
BEGIN:VEVENT
UID:240322imp
DTSTAMP:20260419T194727Z
DTSTART:20270126T160000Z
DTEND:20270126T180000Z
SUMMARY: Becoming Conflict Competent
DESCRIPTION: Conflict is often avoided\, or dealt with in a passive manner. When ignored\, conflict often escalates and can become polarizing. In this session\, participants will gain insights for enhancing their natural responses to conflict\, learn healthy communication styles\, and build constructive behaviors to manage conflict.

This event may be a rebroadcast of a live event and the instructor will be available to answer your questions during the event.
CLASS:PUBLIC
END:VEVENT
END:VCALENDAR
