BEGIN:VCALENDAR
VERSION:2.0
PRODID:
BEGIN:VEVENT
UID:240252imp
DTSTAMP:20260420T140253Z
DTSTART:20270106T140000Z
DTEND:20270106T160000Z
SUMMARY: Basic Individual Taxation Course
DESCRIPTION: Please join us for an introductory course on the fundamentals of preparing and filing an individual federal income tax return. We will cover topics such as what the federal income tax is and how it is computed.

This event may be a rebroadcast of a live event and the instructor will be available to answer your questions during the event.
CLASS:PUBLIC
END:VEVENT
END:VCALENDAR
