BEGIN:VCALENDAR
VERSION:2.0
PRODID:
BEGIN:VEVENT
UID:240124imp
DTSTAMP:20260420T055412Z
DTSTART:20270113T203000Z
DTEND:20270113T223000Z
SUMMARY: The Art of Engaging in Difficult Conversations
DESCRIPTION: Difficult conversations tend to be avoided because professionals shy away from the uncomfortable\, and the fear of polarizing their relationships. Participants will learn strategies and tactics to engage in productive conversations which address challenges and deepen relationships. They will understand where and why they are avoiding having difficult conversations.

This event may be a rebroadcast of a live event and the instructor will be available to answer your questions during the event.
CLASS:PUBLIC
END:VEVENT
END:VCALENDAR
