BEGIN:VCALENDAR
VERSION:2.0
PRODID:
BEGIN:VEVENT
UID:240000ks
DTSTAMP:20260421T160551Z
DTSTART:20261203T140000Z
DTEND:20261203T160500Z
SUMMARY: Iowa Department of Revenue Update
DESCRIPTION: 
CLASS:PUBLIC
END:VEVENT
END:VCALENDAR
