BEGIN:VCALENDAR
VERSION:2.0
PRODID:
BEGIN:VEVENT
UID:239996ks
DTSTAMP:20260421T160932Z
DTSTART:20261103T140000Z
DTEND:20261103T220000Z
LOCATION: ISCPA Enrichment Center (West Des Moines\, 50266)
SUMMARY: Accounting and Auditing Update for the Real World (IN PERSON ATTENDANCE)
DESCRIPTION: This course covers the significant provisions of the most recent pronouncements and proposed pronouncements from the FASB\, the Private Company Council\, the Auditing Standards Board and the Accounting and Review Services Committee.  Presented from the perspective of a small firm practitioner who services or works for non-publicly traded entities\, the discussion will cover the standards that have the broadest application to the local practitioner. Attendees are encouraged to raise current accounting and auditing topics for discussion. A complete\, thorough and fast moving review of all things privately held A&amp\;A!\n  
CLASS:PUBLIC
END:VEVENT
END:VCALENDAR
