BEGIN:VCALENDAR
VERSION:2.0
PRODID:
BEGIN:VEVENT
UID:239995ks
DTSTAMP:20260421T160541Z
DTSTART:20261102T140000Z
DTEND:20261102T220000Z
SUMMARY: Preparation\, Compilation and Review Update for the Local Firm (WEBCAST ATTENDANCE)
DESCRIPTION: This course provides an in-depth examination of the common challenges practitioners face in implementing preparation\, compilation\, and review engagements. Gain insights through real-world cases\, covering all facets of SSARS application\, including accounting\, disclosure\, and reporting from the perspective of a local firm practitioner. Each case integrates several key accounting and disclosure standards\, offering a practical\, hands-on approach\n 
CLASS:PUBLIC
END:VEVENT
END:VCALENDAR
