BEGIN:VCALENDAR
VERSION:2.0
PRODID:
BEGIN:VEVENT
UID:239978klh
DTSTAMP:20260421T160639Z
DTSTART:20261201T140000Z
DTEND:20261201T213000Z
SUMMARY: Preparing Individual Tax Returns for New Staff and Paraprofessionals
DESCRIPTION: The objective of this course is to train new staff accountants\, data processing employees\, paraprofessionals\, andbookkeepers to prepare a moderately complex federal individual income tax return (Form 1040). Over the years\,thousands of new staff have received practical\, hands-on experience to become familiar with tax forms. This coursecovers the latest tax law changes\, making it essential for your new staff\n 
CLASS:PUBLIC
END:VEVENT
END:VCALENDAR
