BEGIN:VCALENDAR
VERSION:2.0
PRODID:
BEGIN:VEVENT
UID:239975klh
DTSTAMP:20260421T160421Z
DTSTART:20260826T130000Z
DTEND:20260826T164500Z
SUMMARY: Critical Issues That CPAs in Industry Will Need to Face This Year
DESCRIPTION: 
CLASS:PUBLIC
END:VEVENT
END:VCALENDAR
