BEGIN:VCALENDAR
VERSION:2.0
PRODID:
BEGIN:VEVENT
UID:239972klh
DTSTAMP:20260421T160552Z
DTSTART:20261005T170000Z
DTEND:20261005T200000Z
SUMMARY: Hands-On With QuickBooks Online Accountant (QBOA) for Public Accounting
DESCRIPTION: We will take a deep look into setting up a QuickBooks Online Accountant (QBOA) account. We will examine all the various firm\, staff\, and client configuration options for getting this to work inside your organization. This class specifically focuses on the configuration options for this application. QBO is a big application\, and it is important to ensure you've properly set up your firm and client files. Additionally\, we will look at the various import/export functionality for getting your data into or out of QBO. Participants will leave this class supercharged with the knowledge of how to set up their QBO accounts correctly for long-term success.
CLASS:PUBLIC
END:VEVENT
END:VCALENDAR
