BEGIN:VCALENDAR
VERSION:2.0
PRODID:
BEGIN:VEVENT
UID:239971klh
DTSTAMP:20260421T160422Z
DTSTART:20260930T170000Z
DTEND:20260930T190000Z
SUMMARY: The K2 Team's Top Tech Productivity Tips and Tricks
DESCRIPTION: The world of work changed radically and became much more virtual after the pandemic's onset in 2020. Over two years into the “new normal\,” our team has compiled a list of the top technology productivity tips\, tricks\, and traps. In this session\, you will learn about shortcuts and hacks to help you accomplish more in Excel\, Teams\, Outlook\, virtual meetings\, and many other applications you use every day. Attend this session and learn the best tips to help you and your team accomplish more in less time.
CLASS:PUBLIC
END:VEVENT
END:VCALENDAR
