BEGIN:VCALENDAR
VERSION:2.0
PRODID:
BEGIN:VEVENT
UID:239970klh
DTSTAMP:20260421T160017Z
DTSTART:20260915T180000Z
DTEND:20260915T200000Z
SUMMARY: Building Bulletproof Spreadsheets: When Accuracy Is Everything
DESCRIPTION: This course equips accounting and finance professionals with practical methods to strengthen spreadsheet accuracy in environments where reliability directly affects reporting\, analysis\, and decision support. The content emphasizes modern Microsoft 365 capabilities\, including dynamic arrays\, data types\, structured references\, version history\, and collaborative features that reduce formula risk and manual intervention. Participants see how sound workbook design\, thoughtful data organization\, and targeted validation rules reduce the likelihood of downstream errors and create spreadsheets that stand up to real-world pressures. The session also highlights common failure points found in finance teams—such as fragile formulas\, inconsistent structures\, and user-driven overrides—and demonstrates how to avoid them through protective controls\, guided templates\, and streamlined calculation flows. By combining updated Excel tools with practical design principles\, participants leave with techniques that improve accuracy\, enhance efficiency\, and support higher-confidence financial outputs across their organizations.
CLASS:PUBLIC
END:VEVENT
END:VCALENDAR
