BEGIN:VCALENDAR
VERSION:2.0
PRODID:
BEGIN:VEVENT
UID:239969klh
DTSTAMP:20260421T160335Z
DTSTART:20260910T143000Z
DTEND:20260910T163000Z
SUMMARY: Cybersecurity 2026: Defense for CPAs
DESCRIPTION: In the modern financial landscape\, the security of a CPA’s practice is defined by the strength of their identity management and the resilience of their workflows. In 2026\, the distinction between office and remote work has faded\, as the cloud serves as our universal workspace. However\, this borderless environment has increased the success of persistent threats like Business Email Compromise (BEC)\, ransomware\, and sophisticated social engineering. This course provides a comprehensive update on these fundamental risks\, examining how traditional attacks have become more frequent and harder to detect through automation. We will analyze the intersection of established security principles and emerging technological challenges. This includes managing the confidentiality risks posed by staff using unauthorized AI tools for client work and understanding why the professional "minimum standard" for cybersecurity has reached a record high. Participants will explore practical frameworks for implementing Zero Trust security and strengthening authentication protocols. By focusing on the most likely threats and the most effective defenses\, this session provides a clear roadmap for protecting client trust and maintaining professional liability standards in an increasingly automated world.
CLASS:PUBLIC
END:VEVENT
END:VCALENDAR
