BEGIN:VCALENDAR
VERSION:2.0
PRODID:
BEGIN:VEVENT
UID:239952ks
DTSTAMP:20260421T160542Z
DTSTART:20261105T150000Z
DTEND:20261105T164000Z
SUMMARY: Fraudsters Unmasked: Internal Audit's Role in Preventing Fraud
DESCRIPTION: 
CLASS:PUBLIC
END:VEVENT
END:VCALENDAR
