BEGIN:VCALENDAR
VERSION:2.0
PRODID:
BEGIN:VEVENT
UID:239951ks
DTSTAMP:20260421T155900Z
DTSTART:20261008T140000Z
DTEND:20261008T154000Z
SUMMARY: The Data Detective: Actionable Analytics for Internal Auditors
DESCRIPTION: 
CLASS:PUBLIC
END:VEVENT
END:VCALENDAR
