BEGIN:VCALENDAR
VERSION:2.0
PRODID:
BEGIN:VEVENT
UID:239941ks
DTSTAMP:20260421T160327Z
DTSTART:20261023T140000Z
DTEND:20261023T160000Z
SUMMARY: AI 101 for CPAs: Core Concepts and Practical Applications
DESCRIPTION: New to AI? Start here. This beginner-friendly or refresher course explains how generative AI works\, what terms like “LLM” and “agentic AI” really mean\, and how CPAs can safely put these tools to use. Leave with a solid understanding of AI fundamentals and how they apply to accounting\, tax and finance\n 
CLASS:PUBLIC
END:VEVENT
END:VCALENDAR
