BEGIN:VCALENDAR
VERSION:2.0
PRODID:
BEGIN:VEVENT
UID:239940ks
DTSTAMP:20260421T160519Z
DTSTART:20261016T140000Z
DTEND:20261016T160000Z
SUMMARY: The AI Revolution in 2026: What CPAs Should Know
DESCRIPTION: Artifical Intelligence (AI) is reshaping audit\, tax and finance. This course surveys what’s real in 2026: core concepts\, major tools\, risks/controls\, and practical CPA use cases. Leave with a clear vocabulary\, a current landscape view\, and actionable talking points for staff\, clients and vendors\n  
CLASS:PUBLIC
END:VEVENT
END:VCALENDAR
