BEGIN:VCALENDAR
VERSION:2.0
PRODID:
BEGIN:VEVENT
UID:239926ks
DTSTAMP:20260421T160541Z
DTSTART:20261112T140000Z
DTEND:20261112T220000Z
LOCATION: ISCPA Enrichment Center (West Des Moines\, 50266)
SUMMARY: Federal Tax Update: Individual and Business Current Developments (IN-PERSON ATTENDANCE)
DESCRIPTION: With the increasing complexity and ever-changing nature of tax laws and issues\, today’s accountant needs a one-day fast-paced update course focusing on the hottest federal income tax topics affecting individuals\, businesses and their owners with an emphasis of newly enacted income tax legislation. Gain insights into newly enacted income tax legislation\, issuance of income tax regulations\, court cases\, IRS notices\, revenue procedures and private letter rulings affecting individuals and businesses\n 
CLASS:PUBLIC
END:VEVENT
END:VCALENDAR
