BEGIN:VCALENDAR
VERSION:2.0
PRODID:
BEGIN:VEVENT
UID:239925ks
DTSTAMP:20260421T173014Z
DTSTART:20261214T140000Z
DTEND:20261214T220000Z
LOCATION: Hilton Garden Inn Cedar Rapids (Cedar Rapids\, 52411)
SUMMARY: Federal Tax Update: Individual and Business Current Developments (CEDAR RAPIDS)
DESCRIPTION: With the increasing complexity and ever-changing nature of tax laws and issues\, today’s accountant needs a one-day fast-paced update course focusing on the hottest federal income tax topics affecting individuals\, businesses and their owners with an emphasis of newly enacted income tax legislation. Gain insights into newly enacted income tax legislation\, issuance of income tax regulations\, court cases\, IRS notices\, revenue procedures and private letter rulings affecting individuals and businesses\n 
CLASS:PUBLIC
END:VEVENT
END:VCALENDAR
