BEGIN:VCALENDAR
VERSION:2.0
PRODID:
BEGIN:VEVENT
UID:238851ks
DTSTAMP:20260421T155901Z
DTSTART:20260917T133000Z
DTEND:20260918T205500Z
LOCATION: Hilton Garden Inn Cedar Rapids (Cedar Rapids\, 52411)
SUMMARY: Fall CPE Conference
DESCRIPTION: Why choose between technical depth and personal growth when you can have both? At this year’s Fall CPE Conference\, you have the flexibility to create an agenda that fits your unique professional needs. With tracks spanning tax\, accounting &amp\; auditing\, technology and personal development\, you can mix and match sessions that speak directly to your role\, your interests and where you want to go next. Dive into evolving standards\, sharpen your technical skills\, stay ahead of the latest accounting tech trends and gain fresh strategies for leadership and growth – all at one conference.\n  
CLASS:PUBLIC
END:VEVENT
END:VCALENDAR
