BEGIN:VCALENDAR
VERSION:2.0
PRODID:
BEGIN:VEVENT
UID:237892ks
DTSTAMP:20260424T141341Z
DTSTART:20260507T163000Z
DTEND:20260507T211500Z
LOCATION: Courtyard by Marriott (Ankeny\, 50021)
SUMMARY: ISCPA Leadership Summit 2026
DESCRIPTION:  \n  \nDon’t miss this exciting event packed with networking opportunities and leadership strategies. Enjoy lunch\, the annual ISCPA business meeting and election of the board of directors\, cheer on the Outstanding Committee Chair and Distinguished Service award winners\, and be inspired to help promote and advocate for the profession. \n  \nWhile this event highlights ISCPA leadership and committee volunteers\, all ISCPA members are welcome. If you're eager to deepen your involvement with ISCPA\, this is the perfect opportunity! \n  
CLASS:PUBLIC
END:VEVENT
END:VCALENDAR
