BEGIN:VCALENDAR
VERSION:2.0
PRODID:
BEGIN:VEVENT
UID:236699mb
DTSTAMP:20260420T191425Z
DTSTART:20260602T160000Z
DTEND:20260602T174700Z
SUMMARY: Cryptocurrencies for the CFO: Explaining Blockchain
DESCRIPTION: What exactly is cryptocurrency and its cousin named blockchain? Are they here to stay? This session will provide a big picture examination of the technologies and currencies by explaining how we got here. We discuss the systems and technical aspects of cryptocurrencies and blockchain. What is the broad view of the technologies that currently do\, and will continue to\, impact our workplace and lives?\n  
CLASS:PUBLIC
END:VEVENT
END:VCALENDAR
